View In:
ArcGIS JavaScript
ArcGIS Online Map Viewer
ArcGIS Earth
ArcMap
View Footprint In:
ArcGIS Online Map Viewer
Service Description: Represents the land surface elevations of the Morris Bridge Sink wetlands. These wetlands include Nursery Marsh (wetland ID 539), Nursery Cypress (Wetland ID 540), and Cypress Marsh (Wetland ID 543). This layer is used to calculate wetland stage area relationships for inundation.
Name: Raster/MorrisBridgeSurface
Description: Represents the land surface elevations of the Morris Bridge Sink wetlands. These wetlands include Nursery Marsh (wetland ID 539), Nursery Cypress (Wetland ID 540), and Cypress Marsh (Wetland ID 543). This layer is used to calculate wetland stage area relationships for inundation.
Single Fused Map Cache: false
Extent:
XMin: 547645
YMin: 1358645
XMax: 552505
YMax: 1361790
Spatial Reference: 2882
(2882)
VCSWkid(105703)
LatestVCSWkid(6360)
Initial Extent:
XMin: 547645
YMin: 1358645
XMax: 552505
YMax: 1361790
Spatial Reference: 2882
(2882)
VCSWkid(105703)
LatestVCSWkid(6360)
Full Extent:
XMin: 547645
YMin: 1358645
XMax: 552505
YMax: 1361790
Spatial Reference: 2882
(2882)
VCSWkid(105703)
LatestVCSWkid(6360)
Pixel Size X: 2.5
Pixel Size Y: 2.5
Band Count: 1
Pixel Type: F32
RasterFunction Infos: {"rasterFunctionInfos": [{
"name": "None",
"description": "",
"help": ""
}]}
Mensuration Capabilities: Basic
Has Histograms: true
Has Colormap: false
Has Multi Dimensions : false
Rendering Rule:
Min Scale: 0
Max Scale: 0
Copyright Text: Jones Edmunds and Associates, Southwest Florida Water Management District
Service Data Type: esriImageServiceDataTypeGeneric
Min Values: 22.267948150634766
Max Values: 57.62999725341797
Mean Values: 36.25547372566755
Standard Deviation Values: 5.61741343679128
Object ID Field:
Fields:
None
Default Mosaic Method: Center
Allowed Mosaic Methods:
SortField:
SortValue: null
Mosaic Operator: First
Default Compression Quality: 75
Default Resampling Method: Bilinear
Max Record Count: null
Max Image Height: 4100
Max Image Width: 15000
Max Download Image Count: null
Max Mosaic Image Count: null
Allow Raster Function: true
Allow Copy: null
Allow Analysis: null
Allow Compute TiePoints: false
Supports Statistics: false
Supports Advanced Queries: false
Use StandardizedQueries: true
Raster Type Infos:
Name: Raster Dataset
Description: Supports all ArcGIS Raster Datasets
Help:
Has Raster Attribute Table: false
Edit Fields Info: null
Ownership Based AccessControl For Rasters: null
Child Resources:
Info
Histograms
Key Properties
Legend
Raster Function Infos
Supported Operations:
Export Image
Identify
Measure
Compute Histograms
Compute Statistics Histograms
Get Samples
Compute Class Statistics
Query Boundary
Compute Pixel Location
Compute Angles
Validate
Project