{ "currentVersion": 10.91, "serviceDescription": "
Represents the land surface elevations of the Morris Bridge Sink wetlands. These wetlands include Nursery Marsh (wetland ID 539), Nursery Cypress (Wetland ID 540), and Cypress Marsh (Wetland ID 543). This layer is used to calculate wetland stage area relationships for inundation. <\/SPAN><\/P><\/DIV><\/DIV><\/DIV>",
"name": "Raster/MorrisBridgeSurface",
"description": " Represents the land surface elevations of the Morris Bridge Sink wetlands. These wetlands include Nursery Marsh (wetland ID 539), Nursery Cypress (Wetland ID 540), and Cypress Marsh (Wetland ID 543). This layer is used to calculate wetland stage area relationships for inundation. <\/SPAN><\/P><\/DIV><\/DIV><\/DIV>",
"extent": {
"xmin": 547645,
"ymin": 1358645,
"xmax": 552505,
"ymax": 1361790,
"spatialReference": {
"wkid": 2882,
"latestWkid": 2882,
"vcsWkid": 105703,
"latestVcsWkid": 6360
}
},
"initialExtent": {
"xmin": 547645,
"ymin": 1358645,
"xmax": 552505,
"ymax": 1361790,
"spatialReference": {
"wkid": 2882,
"latestWkid": 2882,
"vcsWkid": 105703,
"latestVcsWkid": 6360
}
},
"fullExtent": {
"xmin": 547645,
"ymin": 1358645,
"xmax": 552505,
"ymax": 1361790,
"spatialReference": {
"wkid": 2882,
"latestWkid": 2882,
"vcsWkid": 105703,
"latestVcsWkid": 6360
}
},
"heightModelInfo": {
"heightModel": "gravity_related_height",
"vertCRS": "NAVD88_height_(ftUS)",
"heightUnit": "us-foot"
},
"pixelSizeX": 2.5,
"pixelSizeY": 2.5,
"bandCount": 1,
"pixelType": "F32",
"minPixelSize": 0,
"maxPixelSize": 0,
"copyrightText": "Jones Edmunds and Associates, Southwest Florida Water Management District",
"serviceDataType": "esriImageServiceDataTypeGeneric",
"minValues": [
22.267948150634766
],
"maxValues": [
57.62999725341797
],
"meanValues": [
36.25547372566755
],
"stdvValues": [
5.61741343679128
],
"objectIdField": "",
"fields": [],
"capabilities": "Image,Metadata,Mensuration",
"defaultMosaicMethod": "Center",
"allowedMosaicMethods": "",
"sortField": "",
"sortValue": null,
"sortAscending": true,
"mosaicOperator": "First",
"defaultCompressionQuality": 75,
"defaultResamplingMethod": "Bilinear",
"maxImageHeight": 4100,
"maxImageWidth": 15000,
"allowRasterFunction": true,
"rasterFunctionInfos": [
{
"name": "None",
"description": "",
"help": ""
}
],
"rasterTypeInfos": [
{
"name": "Raster Dataset",
"description": "Supports all ArcGIS Raster Datasets",
"help": ""
}
],
"mensurationCapabilities": "Basic",
"hasHistograms": true,
"hasColormap": false,
"hasRasterAttributeTable": false,
"minScale": 0,
"maxScale": 0,
"exportTilesAllowed": false,
"hasMultidimensions": false,
"supportsStatistics": false,
"supportsAdvancedQueries": false,
"editFieldsInfo": null,
"ownershipBasedAccessControlForRasters": null,
"allowComputeTiePoints": false,
"useStandardizedQueries": true,
"advancedQueryCapabilities": {
"useStandardizedQueries": true,
"supportsStatistics": false,
"supportsOrderBy": false,
"supportsDistinct": false,
"supportsPagination": false
},
"spatialReference": {
"wkid": 2882,
"latestWkid": 2882,
"vcsWkid": 105703,
"latestVcsWkid": 6360
}
}