View In:
ArcGIS JavaScript
ArcGIS Online Map Viewer
ArcGIS Earth
ArcMap
View Footprint In:
ArcGIS Online Map Viewer
Service Description: Hillsborough River DEM
Name: Imagery/HillsborouhRiverDEM_IS
Description: Hillsborough River DEM
Single Fused Map Cache: false
Extent:
XMin: 500491.30155280646
YMin: 1311576.897671244
XMax: 518073.80155280646
YMax: 1341911.897671244
Spatial Reference: 103023
(6443)
Initial Extent:
XMin: 500491.30155280646
YMin: 1311576.897671244
XMax: 518073.80155280646
YMax: 1341911.897671244
Spatial Reference: 103023
(6443)
Full Extent:
XMin: 500491.30155280646
YMin: 1311576.897671244
XMax: 518073.80155280646
YMax: 1341911.897671244
Spatial Reference: 103023
(6443)
Pixel Size X: 2.5
Pixel Size Y: 2.5
Band Count: 1
Pixel Type: F32
RasterFunction Infos: {"rasterFunctionInfos": [{
"name": "None",
"description": "",
"help": ""
}]}
Mensuration Capabilities: Basic
Has Histograms: true
Has Colormap: false
Has Multi Dimensions : false
Rendering Rule:
Min Scale: 0
Max Scale: 0
Copyright Text:
Service Data Type: esriImageServiceDataTypeGeneric
Min Values: -21.15239143371582
Max Values: 9.796114921569824
Mean Values: -6.5882896158762625
Standard Deviation Values: 3.5524799957235462
Object ID Field:
Fields:
None
Default Mosaic Method: Center
Allowed Mosaic Methods:
SortField:
SortValue: null
Mosaic Operator: First
Default Compression Quality: 75
Default Resampling Method: Bilinear
Max Record Count: null
Max Image Height: 4100
Max Image Width: 15000
Max Download Image Count: null
Max Mosaic Image Count: null
Allow Raster Function: true
Allow Copy: null
Allow Analysis: null
Allow Compute TiePoints: false
Supports Statistics: false
Supports Advanced Queries: false
Use StandardizedQueries: true
Raster Type Infos:
Name: Raster Dataset
Description: Supports all ArcGIS Raster Datasets
Help:
Has Raster Attribute Table: false
Edit Fields Info: null
Ownership Based AccessControl For Rasters: null
Child Resources:
Info
Histograms
Key Properties
Legend
Raster Function Infos
Supported Operations:
Export Image
Identify
Measure
Compute Histograms
Compute Statistics Histograms
Get Samples
Compute Class Statistics
Query Boundary
Compute Pixel Location
Compute Angles
Validate
Project