{
 "currentVersion": 10.91,
 "serviceDescription": "Hillsborough River DEM",
 "name": "Imagery/HillsborouhRiverDEM_IS",
 "description": "Hillsborough River DEM",
 "extent": {
  "xmin": 500491.30155280646,
  "ymin": 1311576.897671244,
  "xmax": 518073.80155280646,
  "ymax": 1341911.897671244,
  "spatialReference": {
   "wkid": 103023,
   "latestWkid": 6443
  }
 },
 "initialExtent": {
  "xmin": 500491.30155280646,
  "ymin": 1311576.897671244,
  "xmax": 518073.80155280646,
  "ymax": 1341911.897671244,
  "spatialReference": {
   "wkid": 103023,
   "latestWkid": 6443
  }
 },
 "fullExtent": {
  "xmin": 500491.30155280646,
  "ymin": 1311576.897671244,
  "xmax": 518073.80155280646,
  "ymax": 1341911.897671244,
  "spatialReference": {
   "wkid": 103023,
   "latestWkid": 6443
  }
 },
 "pixelSizeX": 2.5,
 "pixelSizeY": 2.5,
 "bandCount": 1,
 "pixelType": "F32",
 "minPixelSize": 0,
 "maxPixelSize": 0,
 "copyrightText": "",
 "serviceDataType": "esriImageServiceDataTypeGeneric",
 "minValues": [
  -21.15239143371582
 ],
 "maxValues": [
  9.796114921569824
 ],
 "meanValues": [
  -6.5882896158762625
 ],
 "stdvValues": [
  3.5524799957235462
 ],
 "objectIdField": "",
 "fields": [],
 "capabilities": "Image,Metadata,Mensuration",
 "defaultMosaicMethod": "Center",
 "allowedMosaicMethods": "",
 "sortField": "",
 "sortValue": null,
 "sortAscending": true,
 "mosaicOperator": "First",
 "defaultCompressionQuality": 75,
 "defaultResamplingMethod": "Bilinear",
 "maxImageHeight": 4100,
 "maxImageWidth": 15000,
 "allowRasterFunction": true,
 "rasterFunctionInfos": [
  {
   "name": "None",
   "description": "",
   "help": ""
  }
 ],
 "rasterTypeInfos": [
  {
   "name": "Raster Dataset",
   "description": "Supports all ArcGIS Raster Datasets",
   "help": ""
  }
 ],
 "mensurationCapabilities": "Basic",
 "hasHistograms": true,
 "hasColormap": false,
 "hasRasterAttributeTable": false,
 "minScale": 0,
 "maxScale": 0,
 "exportTilesAllowed": false,
 "hasMultidimensions": false,
 "supportsStatistics": false,
 "supportsAdvancedQueries": false,
 "editFieldsInfo": null,
 "ownershipBasedAccessControlForRasters": null,
 "allowComputeTiePoints": false,
 "useStandardizedQueries": true,
 "advancedQueryCapabilities": {
  "useStandardizedQueries": true,
  "supportsStatistics": false,
  "supportsOrderBy": false,
  "supportsDistinct": false,
  "supportsPagination": false
 },
 "spatialReference": {
  "wkid": 103023,
  "latestWkid": 6443
 }
}
