View In:
ArcGIS JavaScript
ArcGIS Online Map Viewer
ArcGIS Earth
ArcMap
View Footprint In:
ArcGIS Online Map Viewer
Service Description: Interpolated DEM for Gum Slough
Name: Raster/GumSloughInterpolatedDEM
Description: Interpolated DEM for Gum Slough
Single Fused Map Cache: true
Tile Info:
- Height: 256
- Width: 256
- DPI: 96
-
Levels of Detail: 8
- Format: MIXED
- Compression Quality: 75.0
- LERC Error: NaN
- Origin: X: -1.77913E7
Y: 2.39811E7
- Spatial Reference: 103023
(6443)
VCSWkid(105703)
LatestVCSWkid(6360)
Extent:
XMin: 563192.5
YMin: 1661360
XMax: 584842.5
YMax: 1684792.5
Spatial Reference: 103023
(6443)
VCSWkid(105703)
LatestVCSWkid(6360)
Initial Extent:
XMin: 563192.5
YMin: 1661360
XMax: 584842.5
YMax: 1684792.5
Spatial Reference: 103023
(6443)
VCSWkid(105703)
LatestVCSWkid(6360)
Full Extent:
XMin: 563192.5
YMin: 1661360
XMax: 584842.5
YMax: 1684792.5
Spatial Reference: 103023
(6443)
VCSWkid(105703)
LatestVCSWkid(6360)
Pixel Size X: 2.5
Pixel Size Y: 2.5
Band Count: 1
Pixel Type: F32
RasterFunction Infos: {"rasterFunctionInfos": [{
"name": "None",
"description": "",
"help": ""
}]}
Mensuration Capabilities: Basic
Has Histograms: true
Has Colormap: false
Has Multi Dimensions : false
Rendering Rule:
Min Scale: 250000
Max Scale: 2000
Min LOD: 0
Max LOD: 7
Copyright Text:
Service Data Type: esriImageServiceDataTypeGeneric
Min Values: 28.219999313354492
Max Values: 59.130001068115234
Mean Values: 41.21752587965882
Standard Deviation Values: 4.459518696791719
Object ID Field:
Fields:
None
Default Mosaic Method: Center
Allowed Mosaic Methods:
SortField:
SortValue: null
Mosaic Operator: First
Default Compression Quality: 75
Default Resampling Method: Bilinear
Max Record Count: null
Max Image Height: 4100
Max Image Width: 15000
Max Download Image Count: null
Max Mosaic Image Count: null
Allow Raster Function: true
Allow Copy: null
Allow Analysis: null
Allow Compute TiePoints: false
Supports Statistics: false
Supports Advanced Queries: false
Use StandardizedQueries: true
Raster Type Infos:
Name: Raster Dataset
Description: Supports all ArcGIS Raster Datasets
Help:
Has Raster Attribute Table: false
Edit Fields Info: null
Ownership Based AccessControl For Rasters: null
Child Resources:
Info
Histograms
Key Properties
Legend
Raster Function Infos
Supported Operations:
Export Image
Identify
Measure
Compute Histograms
Compute Statistics Histograms
Get Samples
Compute Class Statistics
Query Boundary
Compute Pixel Location
Compute Angles
Validate
Project
EstimateExportTilesSize
ExportTiles